BEGIN:VCALENDAR
VERSION:2.0
PRODID:-//Friends of Anfield - ECPv4.9.10//NONSGML v1.0//EN
CALSCALE:GREGORIAN
METHOD:PUBLISH
X-WR-CALNAME:Friends of Anfield
X-ORIGINAL-URL:https://friendsofanfield.com
X-WR-CALDESC:Events for Friends of Anfield
BEGIN:VTIMEZONE
TZID:Europe/London
BEGIN:DAYLIGHT
TZOFFSETFROM:+0000
TZOFFSETTO:+0100
TZNAME:BST
DTSTART:20250330T010000
END:DAYLIGHT
BEGIN:STANDARD
TZOFFSETFROM:+0100
TZOFFSETTO:+0000
TZNAME:GMT
DTSTART:20251026T010000
END:STANDARD
END:VTIMEZONE
BEGIN:VEVENT
DTSTART;TZID=Europe/London:20250712T110000
DTEND;TZID=Europe/London:20250712T113000
DTSTAMP:20260423T113507
CREATED:20250705T085012Z
LAST-MODIFIED:20250705T085020Z
UID:1036-1752318000-1752319800@friendsofanfield.com
SUMMARY:Friends' Meeting - 12th July 2025
DESCRIPTION:Hi\, \nPlease come along and join our group on Saturday 12th July 2025 between 10:00 hrs and 11:30 hrs in Anfield’s Crem Chapel.  We are involved in a number of projects including: a replacement Blitz Memorial and an international heritage and visitor centre\, both within the cemetery.  An/or you may wish to join our Anti-Litter Group at 11:45 hrs to help tidy areas within the grounds. \n
URL:https://friendsofanfield.com/event/friends-meeting-12th-july-2025/
END:VEVENT
END:VCALENDAR