BEGIN:VCALENDAR
VERSION:2.0
PRODID:-//Friends of Anfield - ECPv4.9.10//NONSGML v1.0//EN
CALSCALE:GREGORIAN
METHOD:PUBLISH
X-WR-CALNAME:Friends of Anfield
X-ORIGINAL-URL:https://friendsofanfield.com
X-WR-CALDESC:Events for Friends of Anfield
BEGIN:VTIMEZONE
TZID:Europe/London
BEGIN:DAYLIGHT
TZOFFSETFROM:+0000
TZOFFSETTO:+0100
TZNAME:BST
DTSTART:20250330T010000
END:DAYLIGHT
BEGIN:STANDARD
TZOFFSETFROM:+0100
TZOFFSETTO:+0000
TZNAME:GMT
DTSTART:20251026T010000
END:STANDARD
END:VTIMEZONE
BEGIN:VEVENT
DTSTART;TZID=Europe/London:20250524T100000
DTEND;TZID=Europe/London:20250524T233000
DTSTAMP:20260423T144809
CREATED:20250506T144736Z
LAST-MODIFIED:20250506T144742Z
UID:1033-1748080800-1748129400@friendsofanfield.com
SUMMARY:Friends of Anfield Meeting - Saturday 24th May
DESCRIPTION:Hi\,  Our next Friends’ meeting will be on Saturday 24th May in the Crem Chapel\, from 10:00 hrs to 11:30 hrs.  All are welcome.  We’ll be discussing the progress made on a number of projects including: a replacement Blitz Memorial\,  a new Lottery bid and our Heritage Centre. \n
URL:https://friendsofanfield.com/event/friends-of-anfield-meeting-saturday-24th-may/
END:VEVENT
END:VCALENDAR