BEGIN:VCALENDAR
VERSION:2.0
PRODID:-//Friends of Anfield - ECPv4.9.10//NONSGML v1.0//EN
CALSCALE:GREGORIAN
METHOD:PUBLISH
X-WR-CALNAME:Friends of Anfield
X-ORIGINAL-URL:https://friendsofanfield.com
X-WR-CALDESC:Events for Friends of Anfield
BEGIN:VTIMEZONE
TZID:Europe/London
BEGIN:DAYLIGHT
TZOFFSETFROM:+0000
TZOFFSETTO:+0100
TZNAME:BST
DTSTART:20170326T010000
END:DAYLIGHT
BEGIN:STANDARD
TZOFFSETFROM:+0100
TZOFFSETTO:+0000
TZNAME:GMT
DTSTART:20171029T010000
END:STANDARD
END:VTIMEZONE
BEGIN:VEVENT
DTSTART;TZID=Europe/London:20170422T100000
DTEND;TZID=Europe/London:20170422T120000
DTSTAMP:20260420T235300
CREATED:20170402T194738Z
LAST-MODIFIED:20170402T194749Z
UID:555-1492855200-1492862400@friendsofanfield.com
SUMMARY:Friends' Meeting
DESCRIPTION:All welcome. \nCo-op Meeting Room \n2 St Ambrose Grove\, \nAnfield. \nLiverpool \n
URL:https://friendsofanfield.com/event/friends-meeting-5/
LOCATION:Co-op Training Rooms\, 2 St Ambrose Grove\, off Breck Road\, Liverpool\, L4 2RL
END:VEVENT
END:VCALENDAR