BEGIN:VCALENDAR
VERSION:2.0
PRODID:-//Friends of Anfield - ECPv4.9.10//NONSGML v1.0//EN
CALSCALE:GREGORIAN
METHOD:PUBLISH
X-WR-CALNAME:Friends of Anfield
X-ORIGINAL-URL:https://friendsofanfield.com
X-WR-CALDESC:Events for Friends of Anfield
BEGIN:VTIMEZONE
TZID:Europe/London
BEGIN:DAYLIGHT
TZOFFSETFROM:+0000
TZOFFSETTO:+0100
TZNAME:BST
DTSTART:20170326T010000
END:DAYLIGHT
BEGIN:STANDARD
TZOFFSETFROM:+0100
TZOFFSETTO:+0000
TZNAME:GMT
DTSTART:20171029T010000
END:STANDARD
END:VTIMEZONE
BEGIN:VEVENT
DTSTART;TZID=Europe/London:20170213T080000
DTEND;TZID=Europe/London:20170213T220000
DTSTAMP:20260421T020644
CREATED:20170207T192002Z
LAST-MODIFIED:20170207T192045Z
UID:541-1486972800-1487023200@friendsofanfield.com
SUMMARY:HLF funding bid for Heritage Boards
DESCRIPTION:‘Friends’ will soon be submitting an HLF funding bid for the production and installation of twelve Heritage Boards\, to be sited around the cemetery grounds. LCC has signalled their support and Historic England would like to help determine locations. If the bid is successful\, local young people will be involved\, learning processes and producing the images and text to be displayed. \n
URL:https://friendsofanfield.com/event/hlf-funding-bids-for-heritage-boards/
END:VEVENT
END:VCALENDAR