BEGIN:VCALENDAR
VERSION:2.0
PRODID:-//Friends of Anfield - ECPv4.9.10//NONSGML v1.0//EN
CALSCALE:GREGORIAN
METHOD:PUBLISH
X-WR-CALNAME:Friends of Anfield
X-ORIGINAL-URL:https://friendsofanfield.com
X-WR-CALDESC:Events for Friends of Anfield
BEGIN:VTIMEZONE
TZID:Europe/London
BEGIN:DAYLIGHT
TZOFFSETFROM:+0000
TZOFFSETTO:+0100
TZNAME:BST
DTSTART:20170326T010000
END:DAYLIGHT
BEGIN:STANDARD
TZOFFSETFROM:+0100
TZOFFSETTO:+0000
TZNAME:GMT
DTSTART:20171029T010000
END:STANDARD
END:VTIMEZONE
BEGIN:VEVENT
DTSTART;TZID=Europe/London:20170208T123000
DTEND;TZID=Europe/London:20170208T133000
DTSTAMP:20260421T020558
CREATED:20170128T111255Z
LAST-MODIFIED:20170201T225351Z
UID:532-1486557000-1486560600@friendsofanfield.com
SUMMARY:Interested Parties Meeting (LCC\, Historic England\, Friends of Anfield) - By Invitation
DESCRIPTION:Agenda to cover: \n1. Liverpool City Council – update on repairs to Catacombs\n2. Liverpool City Council / Historic England – Conservation Management Plan- production and funding?\n3. Friends of Anfield – update\n4. Friends of Anfield – future plans \n
URL:https://friendsofanfield.com/event/interested-parties-meeting-lcc-historic-england-friends-of-anfield-by-invitation/
END:VEVENT
END:VCALENDAR