BEGIN:VCALENDAR
VERSION:2.0
PRODID:-//Friends of Anfield - ECPv4.9.10//NONSGML v1.0//EN
CALSCALE:GREGORIAN
METHOD:PUBLISH
X-WR-CALNAME:Friends of Anfield
X-ORIGINAL-URL:https://friendsofanfield.com
X-WR-CALDESC:Events for Friends of Anfield
BEGIN:VTIMEZONE
TZID:Europe/London
BEGIN:DAYLIGHT
TZOFFSETFROM:+0000
TZOFFSETTO:+0100
TZNAME:BST
DTSTART:20170326T010000
END:DAYLIGHT
BEGIN:STANDARD
TZOFFSETFROM:+0100
TZOFFSETTO:+0000
TZNAME:GMT
DTSTART:20171029T010000
END:STANDARD
END:VTIMEZONE
BEGIN:VEVENT
DTSTART;TZID=Europe/London:20170204T100000
DTEND;TZID=Europe/London:20170204T120000
DTSTAMP:20260421T020314
CREATED:20170128T110125Z
LAST-MODIFIED:20170128T110320Z
UID:528-1486202400-1486209600@friendsofanfield.com
SUMMARY:'Media Reach' Training (HLF) Fully Booked - Sorry
DESCRIPTION:Fully Booked – Sorry \n
URL:https://friendsofanfield.com/event/media-reach-training-hlf/
END:VEVENT
END:VCALENDAR