BEGIN:VCALENDAR
VERSION:2.0
PRODID:-//Friends of Anfield - ECPv4.9.10//NONSGML v1.0//EN
CALSCALE:GREGORIAN
METHOD:PUBLISH
X-WR-CALNAME:Friends of Anfield
X-ORIGINAL-URL:https://friendsofanfield.com
X-WR-CALDESC:Events for Friends of Anfield
BEGIN:VTIMEZONE
TZID:Europe/London
BEGIN:DAYLIGHT
TZOFFSETFROM:+0000
TZOFFSETTO:+0100
TZNAME:BST
DTSTART:20170326T010000
END:DAYLIGHT
BEGIN:STANDARD
TZOFFSETFROM:+0100
TZOFFSETTO:+0000
TZNAME:GMT
DTSTART:20171029T010000
END:STANDARD
END:VTIMEZONE
BEGIN:VEVENT
DTSTART;TZID=Europe/London:20170107T100000
DTEND;TZID=Europe/London:20170107T115000
DTSTAMP:20260421T031704
CREATED:20161220T170707Z
LAST-MODIFIED:20161220T170719Z
UID:520-1483783200-1483789800@friendsofanfield.com
SUMMARY:Friends' Meeting
DESCRIPTION:All are welcome to attend our first meeting of the new year \n
URL:https://friendsofanfield.com/event/friends-meeting-4/
LOCATION:Co operative Training Rooms.\, C0-0p Training Rooms\, 2 St Ambrose Grove off Breck Road\, Liverpool\, L4 2RL\, United Kingdom
END:VEVENT
END:VCALENDAR