BEGIN:VCALENDAR
VERSION:2.0
PRODID:-//Friends of Anfield - ECPv4.9.10//NONSGML v1.0//EN
CALSCALE:GREGORIAN
METHOD:PUBLISH
X-WR-CALNAME:Friends of Anfield
X-ORIGINAL-URL:https://friendsofanfield.com
X-WR-CALDESC:Events for Friends of Anfield
BEGIN:VTIMEZONE
TZID:Europe/London
BEGIN:DAYLIGHT
TZOFFSETFROM:+0000
TZOFFSETTO:+0100
TZNAME:BST
DTSTART:20160327T010000
END:DAYLIGHT
BEGIN:STANDARD
TZOFFSETFROM:+0100
TZOFFSETTO:+0000
TZNAME:GMT
DTSTART:20161030T010000
END:STANDARD
END:VTIMEZONE
BEGIN:VEVENT
DTSTART;TZID=Europe/London:20160408T100000
DTEND;TZID=Europe/London:20160408T123000
DTSTAMP:20260421T144225
CREATED:20160315T111452Z
LAST-MODIFIED:20160320T104047Z
UID:443-1460109600-1460118600@friendsofanfield.com
SUMMARY:RIBA / Northern Schools of Architecture
DESCRIPTION:The Royal Institute of British Architects (RIBA)\, Liverpool John Moores University and the University of Liverpool are hosting the Northern Soul (NS) this year. The NS is a grouping of ten Northern universities’ Schools of Architecture. Each take it in turns to act as host. The focus for this year’s event is Anfield Cemetery\, where approximately seventy architecture undergraduates will be addressing design issues. The issues will range from uses for the South Chapel\, the cemetery grounds and how this Grade II* heritage asset can be promoted as a major tourist destination\, within the context of the area.\nAfter visiting Anfield in the morning\, the NS will return to Liverpool to discuss\, propose and produce outcomes.\nAlthough the NS has a different agenda to our Friends’ group\, we are eagerly looking forward to the outcomes\, which could inform our recently awarded Architectural Heritage Fund ‘Project Viability Report’. \n
URL:https://friendsofanfield.com/event/riba-northern-schools-of-architecture/
LOCATION:Anfield Cemetery\, Priory Road\, Liverpool\, L4 2SL
END:VEVENT
END:VCALENDAR