BEGIN:VCALENDAR
VERSION:2.0
PRODID:-//Friends of Anfield - ECPv4.9.10//NONSGML v1.0//EN
CALSCALE:GREGORIAN
METHOD:PUBLISH
X-WR-CALNAME:Friends of Anfield
X-ORIGINAL-URL:https://friendsofanfield.com
X-WR-CALDESC:Events for Friends of Anfield
BEGIN:VTIMEZONE
TZID:Europe/London
BEGIN:DAYLIGHT
TZOFFSETFROM:+0000
TZOFFSETTO:+0100
TZNAME:BST
DTSTART:20160327T010000
END:DAYLIGHT
BEGIN:STANDARD
TZOFFSETFROM:+0100
TZOFFSETTO:+0000
TZNAME:GMT
DTSTART:20161030T010000
END:STANDARD
END:VTIMEZONE
BEGIN:VEVENT
DTSTART;TZID=Europe/London:20160308T100000
DTEND;TZID=Europe/London:20160308T100000
DTSTAMP:20260421T161237
CREATED:20160308T205854Z
LAST-MODIFIED:20160308T205901Z
UID:441-1457431200-1457431200@friendsofanfield.com
SUMMARY:Heritage Walk
DESCRIPTION:Starts at Crem Lodge entrance – look for entrance with flag pole \n
URL:https://friendsofanfield.com/event/heritage-walk/
LOCATION:Anfield Crem Lodge
END:VEVENT
END:VCALENDAR