BEGIN:VCALENDAR
VERSION:2.0
PRODID:-//Friends of Anfield - ECPv4.9.10//NONSGML v1.0//EN
CALSCALE:GREGORIAN
METHOD:PUBLISH
X-WR-CALNAME:Friends of Anfield
X-ORIGINAL-URL:https://friendsofanfield.com
X-WR-CALDESC:Events for Friends of Anfield
BEGIN:VTIMEZONE
TZID:Europe/London
BEGIN:DAYLIGHT
TZOFFSETFROM:+0000
TZOFFSETTO:+0100
TZNAME:BST
DTSTART:20160327T010000
END:DAYLIGHT
BEGIN:STANDARD
TZOFFSETFROM:+0100
TZOFFSETTO:+0000
TZNAME:GMT
DTSTART:20161030T010000
END:STANDARD
END:VTIMEZONE
BEGIN:VEVENT
DTSTART;TZID=Europe/London:20160305T100000
DTEND;TZID=Europe/London:20160305T100000
DTSTAMP:20260421T160840
CREATED:20160223T224910Z
LAST-MODIFIED:20160223T224917Z
UID:431-1457172000-1457172000@friendsofanfield.com
SUMMARY:Friends Meeting
DESCRIPTION:Good things to discuss – All welcome \n
URL:https://friendsofanfield.com/event/friends-meeting-3/
LOCATION:Co-op Training Rooms\, 2 St Ambrose Grove\, off Breck Road\, Liverpool\, L4 2RL
END:VEVENT
END:VCALENDAR