BEGIN:VCALENDAR
VERSION:2.0
PRODID:-//Friends of Anfield - ECPv4.9.10//NONSGML v1.0//EN
CALSCALE:GREGORIAN
METHOD:PUBLISH
X-WR-CALNAME:Friends of Anfield
X-ORIGINAL-URL:https://friendsofanfield.com
X-WR-CALDESC:Events for Friends of Anfield
BEGIN:VTIMEZONE
TZID:Europe/London
BEGIN:DAYLIGHT
TZOFFSETFROM:+0000
TZOFFSETTO:+0100
TZNAME:BST
DTSTART:20150329T010000
END:DAYLIGHT
BEGIN:STANDARD
TZOFFSETFROM:+0100
TZOFFSETTO:+0000
TZNAME:GMT
DTSTART:20151025T010000
END:STANDARD
END:VTIMEZONE
BEGIN:VEVENT
DTSTART;TZID=Europe/London:20151027T123000
DTEND;TZID=Europe/London:20151027T143000
DTSTAMP:20260422T194553
CREATED:20151028T080551Z
LAST-MODIFIED:20151028T080600Z
UID:368-1445949000-1445956200@friendsofanfield.com
SUMMARY:Meeting with AHF
DESCRIPTION:To discuss possible funding application – by invitation only \n
URL:https://friendsofanfield.com/event/meeting-with-ahf/
LOCATION:Anfield Crem Lodge
END:VEVENT
BEGIN:VEVENT
DTSTART;TZID=Europe/London:20151027T163000
DTEND;TZID=Europe/London:20151027T180000
DTSTAMP:20260422T194553
CREATED:20151028T081126Z
LAST-MODIFIED:20151028T081445Z
UID:371-1445963400-1445968800@friendsofanfield.com
SUMMARY:Meeting of Anfield Group
DESCRIPTION:To discuss current Anfield Spacial Regeneration Framework plans – by invitation only \n
URL:https://friendsofanfield.com/event/meeting-of-anfield-group/
LOCATION:LFC Centenary Stand Conference Room
END:VEVENT
END:VCALENDAR