BEGIN:VCALENDAR
VERSION:2.0
PRODID:-//Friends of Anfield - ECPv4.9.10//NONSGML v1.0//EN
CALSCALE:GREGORIAN
METHOD:PUBLISH
X-WR-CALNAME:Friends of Anfield
X-ORIGINAL-URL:https://friendsofanfield.com
X-WR-CALDESC:Events for Friends of Anfield
BEGIN:VTIMEZONE
TZID:Europe/London
BEGIN:DAYLIGHT
TZOFFSETFROM:+0000
TZOFFSETTO:+0100
TZNAME:BST
DTSTART:20150329T010000
END:DAYLIGHT
BEGIN:STANDARD
TZOFFSETFROM:+0100
TZOFFSETTO:+0000
TZNAME:GMT
DTSTART:20151025T010000
END:STANDARD
END:VTIMEZONE
BEGIN:VEVENT
DTSTART;TZID=Europe/London:20150912T000000
DTEND;TZID=Europe/London:20150912T133000
DTSTAMP:20260422T224039
CREATED:20150912T110027Z
LAST-MODIFIED:20150909T122827Z
UID:188-1442016000-1442064600@friendsofanfield.com
SUMMARY:Heritage Tour
DESCRIPTION:All welcome \n
URL:https://friendsofanfield.com/event/heritage-tour-10/
LOCATION:Anfield Cemetery\, 236 Priory Road \, Liverpool\, Merseyside\, L4 2SL\, United Kingdom
END:VEVENT
BEGIN:VEVENT
DTSTART;TZID=Europe/London:20150912T100000
DTEND;TZID=Europe/London:20150912T113000
DTSTAMP:20260422T224039
CREATED:20150909T122209Z
LAST-MODIFIED:20150909T122216Z
UID:332-1442052000-1442057400@friendsofanfield.com
SUMMARY:Friends Meeting
DESCRIPTION:All welcome – News and planning \n
URL:https://friendsofanfield.com/event/friends-meeting/
LOCATION:Co operative Training Rooms.\, C0-0p Training Rooms\, 2 St Ambrose Grove off Breck Road\, Liverpool\, Merseyside\, L4 2RL\, United Kingdom
END:VEVENT
BEGIN:VEVENT
DTSTART;TZID=Europe/London:20150912T120000
DTEND;TZID=Europe/London:20150912T133000
DTSTAMP:20260422T224039
CREATED:20150909T124205Z
LAST-MODIFIED:20150909T124213Z
UID:339-1442059200-1442064600@friendsofanfield.com
SUMMARY:Heritage Tour
DESCRIPTION:All welcome \n
URL:https://friendsofanfield.com/event/heritage-tour-11/
LOCATION:Anfield Cemetery\, Priory Road\, Liverpool\, Merseyside\, L4 2SL
END:VEVENT
END:VCALENDAR