BEGIN:VCALENDAR
VERSION:2.0
PRODID:-//Friends of Anfield - ECPv4.9.10//NONSGML v1.0//EN
CALSCALE:GREGORIAN
METHOD:PUBLISH
X-WR-CALNAME:Friends of Anfield
X-ORIGINAL-URL:https://friendsofanfield.com
X-WR-CALDESC:Events for Friends of Anfield
BEGIN:VTIMEZONE
TZID:Europe/London
BEGIN:DAYLIGHT
TZOFFSETFROM:+0000
TZOFFSETTO:+0100
TZNAME:BST
DTSTART:20150329T010000
END:DAYLIGHT
BEGIN:STANDARD
TZOFFSETFROM:+0100
TZOFFSETTO:+0000
TZNAME:GMT
DTSTART:20151025T010000
END:STANDARD
END:VTIMEZONE
BEGIN:VEVENT
DTSTART;TZID=Europe/London:20150703T133000
DTEND;TZID=Europe/London:20150703T150000
DTSTAMP:20260423T011940
CREATED:20150701T212915Z
LAST-MODIFIED:20150710T192925Z
UID:322-1435930200-1435935600@friendsofanfield.com
SUMMARY:Heritage Tour
DESCRIPTION:By Invitation Only \n
URL:https://friendsofanfield.com/event/heritage-tour-2/
LOCATION:Crematorium Chapel\, Priory Road\, Liverpool\, L4 2SL
END:VEVENT
END:VCALENDAR