BEGIN:VCALENDAR
VERSION:2.0
PRODID:-//Friends of Anfield - ECPv4.9.10//NONSGML v1.0//EN
CALSCALE:GREGORIAN
METHOD:PUBLISH
X-WR-CALNAME:Friends of Anfield
X-ORIGINAL-URL:https://friendsofanfield.com
X-WR-CALDESC:Events for Friends of Anfield
BEGIN:VTIMEZONE
TZID:Europe/London
BEGIN:DAYLIGHT
TZOFFSETFROM:+0000
TZOFFSETTO:+0100
TZNAME:BST
DTSTART:20170326T010000
END:DAYLIGHT
BEGIN:STANDARD
TZOFFSETFROM:+0100
TZOFFSETTO:+0000
TZNAME:GMT
DTSTART:20171029T010000
END:STANDARD
END:VTIMEZONE
BEGIN:VEVENT
DTSTART;TZID=Europe/London:20170318T100000
DTEND;TZID=Europe/London:20170318T130000
DTSTAMP:20260421T010017
CREATED:20170301T122503Z
LAST-MODIFIED:20170301T122718Z
UID:550-1489831200-1489842000@friendsofanfield.com
SUMMARY:What Next for Anfield Cemetery?
DESCRIPTION:Good things are possible if local people want them too. \nThis is a good opportunity for you to help shape our plans. \nSo please come along and find out what Friends have in mind. \n
URL:https://friendsofanfield.com/event/what-next-for-anfield-cemetery/
LOCATION:St Columba’s Church\, Pinehurst Road\, Anfield\, Liverpool\, Merseyside\, L42RL\, United Kingdom
END:VEVENT
END:VCALENDAR