BEGIN:VCALENDAR
VERSION:2.0
PRODID:-//Friends of Anfield - ECPv4.9.10//NONSGML v1.0//EN
CALSCALE:GREGORIAN
METHOD:PUBLISH
X-WR-CALNAME:Friends of Anfield
X-ORIGINAL-URL:https://friendsofanfield.com
X-WR-CALDESC:Events for Friends of Anfield
BEGIN:VTIMEZONE
TZID:Europe/London
BEGIN:DAYLIGHT
TZOFFSETFROM:+0000
TZOFFSETTO:+0100
TZNAME:BST
DTSTART:20160327T010000
END:DAYLIGHT
BEGIN:STANDARD
TZOFFSETFROM:+0100
TZOFFSETTO:+0000
TZNAME:GMT
DTSTART:20161030T010000
END:STANDARD
END:VTIMEZONE
BEGIN:VEVENT
DTSTART;TZID=Europe/London:20161112T143000
DTEND;TZID=Europe/London:20161112T153000
DTSTAMP:20260421T042828
CREATED:20161013T092629Z
LAST-MODIFIED:20161019T170935Z
UID:510-1478961000-1478964600@friendsofanfield.com
SUMMARY:Remembrance Sunday (Saturday) Service
DESCRIPTION:Meeting at the Crematoria Chapel on :- \nSaturday 12th November 2016\, commencing @ 2:30pm. The Service begins at 2:30pm\, at Anfield Crematoria and will be followed by a march to the War Memorial in Anfield Cemetery\, where a short service\, followed by a minutes silence and laying of wreaths at the Cross of Sacrifice will be observed. \nThis change has been necessitated by Liverpool Football Club’s re-scheduling of the game at Anfield against Watford to Sunday 6th November (2:15 kick off)\, which would serverely restrict access to the Crematoria and Cemetery\, making it impossible to go ahead with the Event on the original date. \n
URL:https://friendsofanfield.com/event/remembrance-sunday-service/
LOCATION:Anfield Crem Chapel\, Priory Road\, Liverpool\, L4 2SL
ORGANIZER;CN="Ray%20Beeton":MAILTO:raybee1@blueyonder.co.uk
END:VEVENT
END:VCALENDAR