BEGIN:VCALENDAR
VERSION:2.0
PRODID:-//Friends of Anfield - ECPv4.9.10//NONSGML v1.0//EN
CALSCALE:GREGORIAN
METHOD:PUBLISH
X-WR-CALNAME:Friends of Anfield
X-ORIGINAL-URL:https://friendsofanfield.com
X-WR-CALDESC:Events for Friends of Anfield
BEGIN:VTIMEZONE
TZID:Europe/London
BEGIN:DAYLIGHT
TZOFFSETFROM:+0000
TZOFFSETTO:+0100
TZNAME:BST
DTSTART:20170326T010000
END:DAYLIGHT
BEGIN:STANDARD
TZOFFSETFROM:+0100
TZOFFSETTO:+0000
TZNAME:GMT
DTSTART:20171029T010000
END:STANDARD
END:VTIMEZONE
BEGIN:VEVENT
DTSTART;TZID=Europe/London:20170326T110000
DTEND;TZID=Europe/London:20170326T150000
DTSTAMP:20260421T005624
CREATED:20170215T173339Z
LAST-MODIFIED:20170215T173350Z
UID:545-1490526000-1490540400@friendsofanfield.com
SUMMARY:Mothers' Day Balloon Release
DESCRIPTION:All are welcome. \n
URL:https://friendsofanfield.com/event/mothers-day-balloon-release/
END:VEVENT
END:VCALENDAR