BEGIN:VCALENDAR
VERSION:2.0
PRODID:-//Friends of Anfield - ECPv4.9.10//NONSGML v1.0//EN
CALSCALE:GREGORIAN
METHOD:PUBLISH
X-WR-CALNAME:Friends of Anfield
X-ORIGINAL-URL:https://friendsofanfield.com
X-WR-CALDESC:Events for Friends of Anfield
BEGIN:VTIMEZONE
TZID:Europe/London
BEGIN:DAYLIGHT
TZOFFSETFROM:+0000
TZOFFSETTO:+0100
TZNAME:BST
DTSTART:20160327T010000
END:DAYLIGHT
BEGIN:STANDARD
TZOFFSETFROM:+0100
TZOFFSETTO:+0000
TZNAME:GMT
DTSTART:20161030T010000
END:STANDARD
END:VTIMEZONE
BEGIN:VEVENT
DTSTART;TZID=Europe/London:20160306T100000
DTEND;TZID=Europe/London:20160306T150000
DTSTAMP:20260415T191627
CREATED:20160114T123839Z
LAST-MODIFIED:20160114T124323Z
UID:423-1457258400-1457276400@friendsofanfield.com
SUMMARY:Mothers' Day Balloon Release
DESCRIPTION:
URL:https://friendsofanfield.com/event/mothers-day-ballon-release/
LOCATION:Priory Lodge Entrance\, Priory Road\, Liverpool\, L4 2SL
END:VEVENT
END:VCALENDAR