BEGIN:VCALENDAR
VERSION:2.0
PRODID:-//Friends of Anfield - ECPv4.9.10//NONSGML v1.0//EN
CALSCALE:GREGORIAN
METHOD:PUBLISH
X-WR-CALNAME:Friends of Anfield
X-ORIGINAL-URL:https://friendsofanfield.com
X-WR-CALDESC:Events for Friends of Anfield
BEGIN:VTIMEZONE
TZID:Europe/London
BEGIN:DAYLIGHT
TZOFFSETFROM:+0000
TZOFFSETTO:+0100
TZNAME:BST
DTSTART:20160327T010000
END:DAYLIGHT
BEGIN:STANDARD
TZOFFSETFROM:+0100
TZOFFSETTO:+0000
TZNAME:GMT
DTSTART:20161030T010000
END:STANDARD
END:VTIMEZONE
BEGIN:VEVENT
DTSTART;TZID=Europe/London:20160710T143000
DTEND;TZID=Europe/London:20160710T153000
DTSTAMP:20260421T054455
CREATED:20160308T181625Z
LAST-MODIFIED:20160704T190548Z
UID:436-1468161000-1468164600@friendsofanfield.com
SUMMARY:Summer Ecumenical Commemoration Service
DESCRIPTION:All are very welcome. \nPlease come along. \n
URL:https://friendsofanfield.com/event/mid-summer-ecumenical-service/
LOCATION:Anfield Crem Chapel\, Priory Road\, Liverpool\, L4 2SL
END:VEVENT
END:VCALENDAR