BEGIN:VCALENDAR
VERSION:2.0
PRODID:-//Friends of Anfield - ECPv4.9.10//NONSGML v1.0//EN
CALSCALE:GREGORIAN
METHOD:PUBLISH
X-WR-CALNAME:Friends of Anfield
X-ORIGINAL-URL:https://friendsofanfield.com
X-WR-CALDESC:Events for Friends of Anfield
BEGIN:VTIMEZONE
TZID:Europe/London
BEGIN:DAYLIGHT
TZOFFSETFROM:+0000
TZOFFSETTO:+0100
TZNAME:BST
DTSTART:20150329T010000
END:DAYLIGHT
BEGIN:STANDARD
TZOFFSETFROM:+0100
TZOFFSETTO:+0000
TZNAME:GMT
DTSTART:20151025T010000
END:STANDARD
END:VTIMEZONE
BEGIN:VEVENT
DTSTART;TZID=Europe/London:20150522T100000
DTEND;TZID=Europe/London:20150523T160000
DTSTAMP:20260423T035806
CREATED:20150517T074344Z
LAST-MODIFIED:20150517T074344Z
UID:291-1432288800-1432396800@friendsofanfield.com
SUMMARY:LJMU Ecology Bio Blitz
DESCRIPTION:By invitation only \n
URL:https://friendsofanfield.com/event/ljmu-ecology-bio-blitz/
END:VEVENT
END:VCALENDAR