BEGIN:VCALENDAR
VERSION:2.0
PRODID:-//Friends of Anfield - ECPv4.9.10//NONSGML v1.0//EN
CALSCALE:GREGORIAN
METHOD:PUBLISH
X-WR-CALNAME:Friends of Anfield
X-ORIGINAL-URL:https://friendsofanfield.com
X-WR-CALDESC:Events for Friends of Anfield
BEGIN:VTIMEZONE
TZID:Europe/London
BEGIN:DAYLIGHT
TZOFFSETFROM:+0000
TZOFFSETTO:+0100
TZNAME:BST
DTSTART:20180325T010000
END:DAYLIGHT
BEGIN:STANDARD
TZOFFSETFROM:+0100
TZOFFSETTO:+0000
TZNAME:GMT
DTSTART:20181028T010000
END:STANDARD
END:VTIMEZONE
BEGIN:VEVENT
DTSTART;TZID=Europe/London:20180418T140000
DTEND;TZID=Europe/London:20180418T153000
DTSTAMP:20260419T014113
CREATED:20180326T195909Z
LAST-MODIFIED:20180326T195915Z
UID:642-1524060000-1524065400@friendsofanfield.com
SUMMARY:Interested Parties Meeting
DESCRIPTION:By invitation only – Historic England\, Liverpool City Council\, Purcell and Friends’ representatives are to discuss Friends’ plans\, progress and a Conservation Management Plan for the cemetery grounds. \n
URL:https://friendsofanfield.com/event/interested-parties-meeting-4/
END:VEVENT
END:VCALENDAR