BEGIN:VCALENDAR
VERSION:2.0
PRODID:-//Friends of Anfield - ECPv4.9.10//NONSGML v1.0//EN
CALSCALE:GREGORIAN
METHOD:PUBLISH
X-WR-CALNAME:Friends of Anfield
X-ORIGINAL-URL:https://friendsofanfield.com
X-WR-CALDESC:Events for Friends of Anfield
BEGIN:VTIMEZONE
TZID:Europe/London
BEGIN:DAYLIGHT
TZOFFSETFROM:+0000
TZOFFSETTO:+0100
TZNAME:BST
DTSTART:20170326T010000
END:DAYLIGHT
BEGIN:STANDARD
TZOFFSETFROM:+0100
TZOFFSETTO:+0000
TZNAME:GMT
DTSTART:20171029T010000
END:STANDARD
END:VTIMEZONE
BEGIN:VEVENT
DTSTART;TZID=Europe/London:20170511T110000
DTEND;TZID=Europe/London:20170511T123000
DTSTAMP:20260420T223436
CREATED:20170501T091400Z
LAST-MODIFIED:20170501T091405Z
UID:563-1494500400-1494505800@friendsofanfield.com
SUMMARY:Interested Parties' Meeting
DESCRIPTION:A meeting with Historic England\, LCC and Friends to progress Friends’ plans. \nBy invitation only. \n
URL:https://friendsofanfield.com/event/interested-parties-meeting-3/
END:VEVENT
END:VCALENDAR