BEGIN:VCALENDAR
VERSION:2.0
PRODID:-//Friends of Anfield - ECPv4.9.10//NONSGML v1.0//EN
CALSCALE:GREGORIAN
METHOD:PUBLISH
X-WR-CALNAME:Friends of Anfield
X-ORIGINAL-URL:https://friendsofanfield.com
X-WR-CALDESC:Events for Friends of Anfield
BEGIN:VTIMEZONE
TZID:Europe/London
BEGIN:DAYLIGHT
TZOFFSETFROM:+0000
TZOFFSETTO:+0100
TZNAME:BST
DTSTART:20170326T010000
END:DAYLIGHT
BEGIN:STANDARD
TZOFFSETFROM:+0100
TZOFFSETTO:+0000
TZNAME:GMT
DTSTART:20171029T010000
END:STANDARD
END:VTIMEZONE
BEGIN:VEVENT
DTSTART;TZID=Europe/London:20170621T110000
DTEND;TZID=Europe/London:20170621T130000
DTSTAMP:20260420T212648
CREATED:20170519T162244Z
LAST-MODIFIED:20170519T162604Z
UID:582-1498042800-1498050000@friendsofanfield.com
SUMMARY:Heritage Tour
DESCRIPTION:Please contact Ray on raybee1@blueyonder.co.uk for arrangements. \nMeeting place – Waiting Room.in Crematorium Grounds – behind Priory Road gate (with Union Jack). \n
URL:https://friendsofanfield.com/event/heritage-walk-4/
END:VEVENT
END:VCALENDAR