BEGIN:VCALENDAR
VERSION:2.0
PRODID:-//Friends of Anfield - ECPv4.9.10//NONSGML v1.0//EN
CALSCALE:GREGORIAN
METHOD:PUBLISH
X-WR-CALNAME:Friends of Anfield
X-ORIGINAL-URL:https://friendsofanfield.com
X-WR-CALDESC:Events for Friends of Anfield
BEGIN:VTIMEZONE
TZID:Europe/London
BEGIN:DAYLIGHT
TZOFFSETFROM:+0000
TZOFFSETTO:+0100
TZNAME:BST
DTSTART:20160327T010000
END:DAYLIGHT
BEGIN:STANDARD
TZOFFSETFROM:+0100
TZOFFSETTO:+0000
TZNAME:GMT
DTSTART:20161030T010000
END:STANDARD
END:VTIMEZONE
BEGIN:VEVENT
DTSTART;TZID=Europe/London:20160507T100000
DTEND;TZID=Europe/London:20160507T100000
DTSTAMP:20260419T212704
CREATED:20160503T200836Z
LAST-MODIFIED:20160503T200841Z
UID:450-1462615200-1462615200@friendsofanfield.com
SUMMARY:Heritage Tour
DESCRIPTION:All welcome \n
URL:https://friendsofanfield.com/event/heritage-tour-8/
LOCATION:Anfield Crem Lodge
END:VEVENT
END:VCALENDAR