BEGIN:VCALENDAR
VERSION:2.0
PRODID:-//Friends of Anfield - ECPv4.9.10//NONSGML v1.0//EN
CALSCALE:GREGORIAN
METHOD:PUBLISH
X-WR-CALNAME:Friends of Anfield
X-ORIGINAL-URL:https://friendsofanfield.com
X-WR-CALDESC:Events for Friends of Anfield
BEGIN:VTIMEZONE
TZID:Europe/London
BEGIN:DAYLIGHT
TZOFFSETFROM:+0000
TZOFFSETTO:+0100
TZNAME:BST
DTSTART:20170326T010000
END:DAYLIGHT
BEGIN:STANDARD
TZOFFSETFROM:+0100
TZOFFSETTO:+0000
TZNAME:GMT
DTSTART:20171029T010000
END:STANDARD
END:VTIMEZONE
BEGIN:VEVENT
DTSTART;TZID=Europe/London:20170816T110000
DTEND;TZID=Europe/London:20170816T150000
DTSTAMP:20260418T165235
CREATED:20170712T062259Z
LAST-MODIFIED:20170712T062304Z
UID:613-1502881200-1502895600@friendsofanfield.com
SUMMARY:Heritage Tour
DESCRIPTION:Please contact Ray on 07876626528 for confirmation.\nMeet at Priory Road Crematorium Lodge. \n
URL:https://friendsofanfield.com/event/heritage-tour-20/
END:VEVENT
END:VCALENDAR