BEGIN:VCALENDAR
VERSION:2.0
PRODID:-//Friends of Anfield - ECPv4.9.10//NONSGML v1.0//EN
CALSCALE:GREGORIAN
METHOD:PUBLISH
X-WR-CALNAME:Friends of Anfield
X-ORIGINAL-URL:https://friendsofanfield.com
X-WR-CALDESC:Events for Friends of Anfield
BEGIN:VTIMEZONE
TZID:Europe/London
BEGIN:DAYLIGHT
TZOFFSETFROM:+0000
TZOFFSETTO:+0100
TZNAME:BST
DTSTART:20170326T010000
END:DAYLIGHT
BEGIN:STANDARD
TZOFFSETFROM:+0100
TZOFFSETTO:+0000
TZNAME:GMT
DTSTART:20171029T010000
END:STANDARD
END:VTIMEZONE
BEGIN:VEVENT
DTSTART;TZID=Europe/London:20170520T100000
DTEND;TZID=Europe/London:20170520T120000
DTSTAMP:20260420T223921
CREATED:20170507T164228Z
LAST-MODIFIED:20170507T164232Z
UID:573-1495274400-1495281600@friendsofanfield.com
SUMMARY:Friends Meeting - All welcome
DESCRIPTION:To discuss developments and possibilities for Anfield Cemetery \n
URL:https://friendsofanfield.com/event/friends-meeting-all-welcome/
LOCATION:Co-op Training Rooms\, 2 St Ambrose Grove\, off Breck Road\, Liverpool\, L4 2RL
END:VEVENT
END:VCALENDAR