BEGIN:VCALENDAR
VERSION:2.0
PRODID:-//Friends of Anfield - ECPv4.9.10//NONSGML v1.0//EN
CALSCALE:GREGORIAN
METHOD:PUBLISH
X-WR-CALNAME:Friends of Anfield
X-ORIGINAL-URL:https://friendsofanfield.com
X-WR-CALDESC:Events for Friends of Anfield
BEGIN:VTIMEZONE
TZID:Europe/London
BEGIN:DAYLIGHT
TZOFFSETFROM:+0000
TZOFFSETTO:+0100
TZNAME:BST
DTSTART:20180325T010000
END:DAYLIGHT
BEGIN:STANDARD
TZOFFSETFROM:+0100
TZOFFSETTO:+0000
TZNAME:GMT
DTSTART:20181028T010000
END:STANDARD
END:VTIMEZONE
BEGIN:VEVENT
DTSTART;TZID=Europe/London:20180428T100000
DTEND;TZID=Europe/London:20180428T120000
DTSTAMP:20260420T093218
CREATED:20180416T175345Z
LAST-MODIFIED:20180416T175354Z
UID:644-1524909600-1524916800@friendsofanfield.com
SUMMARY:Friends' Meeting
DESCRIPTION:All are welcome –\nCo-op Meeting Rooms\nSt Ambrose Grove\nAnfield\nL4 2RL \n
URL:https://friendsofanfield.com/event/friends-meeting-8/
END:VEVENT
END:VCALENDAR