BEGIN:VCALENDAR
VERSION:2.0
PRODID:-//Friends of Anfield - ECPv4.9.10//NONSGML v1.0//EN
CALSCALE:GREGORIAN
METHOD:PUBLISH
X-WR-CALNAME:Friends of Anfield
X-ORIGINAL-URL:https://friendsofanfield.com
X-WR-CALDESC:Events for Friends of Anfield
BEGIN:VTIMEZONE
TZID:Europe/London
BEGIN:DAYLIGHT
TZOFFSETFROM:+0000
TZOFFSETTO:+0100
TZNAME:BST
DTSTART:20230326T010000
END:DAYLIGHT
BEGIN:STANDARD
TZOFFSETFROM:+0100
TZOFFSETTO:+0000
TZNAME:GMT
DTSTART:20231029T010000
END:STANDARD
END:VTIMEZONE
BEGIN:VEVENT
DTSTART;TZID=Europe/London:20230429T100000
DTEND;TZID=Europe/London:20230429T113000
DTSTAMP:20260426T002249
CREATED:20230430T081752Z
LAST-MODIFIED:20230430T081804Z
UID:978-1682762400-1682767800@friendsofanfield.com
SUMMARY:Friends' Meeting 29th April 2023
DESCRIPTION:All are welcome to join our meeting on 29th April at 10:00 hrs to 11:30 hrs. Lots of good things to discuss as usual. \n
URL:https://friendsofanfield.com/event/friends-meeting-29th-april-2023/
LOCATION:The Cabbage Hall Hotel – Anfield\, Anfield\, Liverpool\, United Kingdom
END:VEVENT
END:VCALENDAR