BEGIN:VCALENDAR
VERSION:2.0
PRODID:-//Friends of Anfield - ECPv4.9.10//NONSGML v1.0//EN
CALSCALE:GREGORIAN
METHOD:PUBLISH
X-WR-CALNAME:Friends of Anfield
X-ORIGINAL-URL:https://friendsofanfield.com
X-WR-CALDESC:Events for Friends of Anfield
BEGIN:VTIMEZONE
TZID:Europe/London
BEGIN:DAYLIGHT
TZOFFSETFROM:+0000
TZOFFSETTO:+0100
TZNAME:BST
DTSTART:20250330T010000
END:DAYLIGHT
BEGIN:STANDARD
TZOFFSETFROM:+0100
TZOFFSETTO:+0000
TZNAME:GMT
DTSTART:20251026T010000
END:STANDARD
END:VTIMEZONE
BEGIN:VEVENT
DTSTART;TZID=Europe/London:20250125T100000
DTEND;TZID=Europe/London:20250125T113000
DTSTAMP:20260416T161808
CREATED:20250119T164743Z
LAST-MODIFIED:20250119T164751Z
UID:1024-1737799200-1737804600@friendsofanfield.com
SUMMARY:Friend's Meeting -
DESCRIPTION:All are welcome to join our meeting and help to make our community cemetery a better place to visit. \nThe Cabbage Hall Hotel Anfield – Saturday 25th January – 10:00 hrs to 11:30 hrs. \n
URL:https://friendsofanfield.com/event/friends-meeting-17/
END:VEVENT
END:VCALENDAR