BEGIN:VCALENDAR
VERSION:2.0
PRODID:-//Friends of Anfield - ECPv4.9.10//NONSGML v1.0//EN
CALSCALE:GREGORIAN
METHOD:PUBLISH
X-WR-CALNAME:Friends of Anfield
X-ORIGINAL-URL:https://friendsofanfield.com
X-WR-CALDESC:Events for Friends of Anfield
BEGIN:VTIMEZONE
TZID:Europe/London
BEGIN:DAYLIGHT
TZOFFSETFROM:+0000
TZOFFSETTO:+0100
TZNAME:BST
DTSTART:20230326T010000
END:DAYLIGHT
BEGIN:STANDARD
TZOFFSETFROM:+0100
TZOFFSETTO:+0000
TZNAME:GMT
DTSTART:20231029T010000
END:STANDARD
END:VTIMEZONE
BEGIN:VEVENT
DTSTART;TZID=Europe/London:20230114T100000
DTEND;TZID=Europe/London:20230114T113000
DTSTAMP:20260425T195609
CREATED:20221227T134525Z
LAST-MODIFIED:20221227T134543Z
UID:963-1673690400-1673695800@friendsofanfield.com
SUMMARY:Friends' Meeting
DESCRIPTION:Hi\, \nOur first Friends’ meeting of 2023 is on Saturday 14th January\, from 10:00 hrs to 11:30 hrs at the Cabbage Hall Hotel\, Anfield. All are welcome as usual. \n
URL:https://friendsofanfield.com/event/friends-meeting-15/
END:VEVENT
END:VCALENDAR