BEGIN:VCALENDAR
VERSION:2.0
PRODID:-//Friends of Anfield - ECPv4.9.10//NONSGML v1.0//EN
CALSCALE:GREGORIAN
METHOD:PUBLISH
X-WR-CALNAME:Friends of Anfield
X-ORIGINAL-URL:https://friendsofanfield.com
X-WR-CALDESC:Events for Friends of Anfield
BEGIN:VTIMEZONE
TZID:Europe/London
BEGIN:DAYLIGHT
TZOFFSETFROM:+0000
TZOFFSETTO:+0100
TZNAME:BST
DTSTART:20220327T010000
END:DAYLIGHT
BEGIN:STANDARD
TZOFFSETFROM:+0100
TZOFFSETTO:+0000
TZNAME:GMT
DTSTART:20221030T010000
END:STANDARD
END:VTIMEZONE
BEGIN:VEVENT
DTSTART;TZID=Europe/London:20220507T100000
DTEND;TZID=Europe/London:20220507T120000
DTSTAMP:20260425T154007
CREATED:20220404T081142Z
LAST-MODIFIED:20220404T081202Z
UID:932-1651917600-1651924800@friendsofanfield.com
SUMMARY:Friends' Catch Up Meeting
DESCRIPTION:All are welcome to join our friendly group. \n
URL:https://friendsofanfield.com/event/friends-catch-up-meeting/
LOCATION:The Cabbage Hall Hotel – Anfield\, Anfield\, Liverpool\, United Kingdom
END:VEVENT
END:VCALENDAR