BEGIN:VCALENDAR
VERSION:2.0
PRODID:-//Friends of Anfield - ECPv4.9.10//NONSGML v1.0//EN
CALSCALE:GREGORIAN
METHOD:PUBLISH
X-WR-CALNAME:Friends of Anfield
X-ORIGINAL-URL:https://friendsofanfield.com
X-WR-CALDESC:Events for Friends of Anfield
BEGIN:VTIMEZONE
TZID:Europe/London
BEGIN:DAYLIGHT
TZOFFSETFROM:+0000
TZOFFSETTO:+0100
TZNAME:BST
DTSTART:20150329T010000
END:DAYLIGHT
BEGIN:STANDARD
TZOFFSETFROM:+0100
TZOFFSETTO:+0000
TZNAME:GMT
DTSTART:20151025T010000
END:STANDARD
END:VTIMEZONE
BEGIN:VEVENT
DTSTART;TZID=Europe/London:20151119T120000
DTEND;TZID=Europe/London:20151119T130000
DTSTAMP:20260422T035235
CREATED:20151117T171624Z
LAST-MODIFIED:20151117T171636Z
UID:382-1447934400-1447938000@friendsofanfield.com
SUMMARY:BAY TV Follow-up
DESCRIPTION:By invitation only. \n
URL:https://friendsofanfield.com/event/bay-tv-follow-up/
LOCATION:Anfield Crem Chapel\, Priory Road\, Liverpool\, L4 2SL
END:VEVENT
END:VCALENDAR