BEGIN:VCALENDAR
VERSION:2.0
PRODID:-//Friends of Anfield - ECPv4.9.10//NONSGML v1.0//EN
CALSCALE:GREGORIAN
METHOD:PUBLISH
X-WR-CALNAME:Friends of Anfield
X-ORIGINAL-URL:https://friendsofanfield.com
X-WR-CALDESC:Events for Friends of Anfield
BEGIN:VTIMEZONE
TZID:Europe/London
BEGIN:DAYLIGHT
TZOFFSETFROM:+0000
TZOFFSETTO:+0100
TZNAME:BST
DTSTART:20160327T010000
END:DAYLIGHT
BEGIN:STANDARD
TZOFFSETFROM:+0100
TZOFFSETTO:+0000
TZNAME:GMT
DTSTART:20161030T010000
END:STANDARD
END:VTIMEZONE
BEGIN:VEVENT
DTSTART;TZID=Europe/London:20160120T150000
DTEND;TZID=Europe/London:20160120T160000
DTSTAMP:20260417T065645
CREATED:20160116T094346Z
LAST-MODIFIED:20160116T094936Z
UID:427-1453302000-1453305600@friendsofanfield.com
SUMMARY:Anfield Consultation - By invitation only
DESCRIPTION:
URL:https://friendsofanfield.com/event/anfield-consultation-by-invitation-only-2/
END:VEVENT
END:VCALENDAR