BEGIN:VCALENDAR
VERSION:2.0
PRODID:-//Friends of Anfield - ECPv4.9.10//NONSGML v1.0//EN
CALSCALE:GREGORIAN
METHOD:PUBLISH
X-WR-CALNAME:Friends of Anfield
X-ORIGINAL-URL:https://friendsofanfield.com
X-WR-CALDESC:Events for Friends of Anfield
BEGIN:VTIMEZONE
TZID:Europe/London
BEGIN:DAYLIGHT
TZOFFSETFROM:+0000
TZOFFSETTO:+0100
TZNAME:BST
DTSTART:20150329T010000
END:DAYLIGHT
BEGIN:STANDARD
TZOFFSETFROM:+0100
TZOFFSETTO:+0000
TZNAME:GMT
DTSTART:20151025T010000
END:STANDARD
END:VTIMEZONE
BEGIN:VEVENT
DTSTART;TZID=Europe/London:20151107T120000
DTEND;TZID=Europe/London:20151107T130000
DTSTAMP:20260416T204059
CREATED:20150909T130001Z
LAST-MODIFIED:20150909T130009Z
UID:347-1446897600-1446901200@friendsofanfield.com
SUMMARY:American Civil War/CSS Alabama Commemoration Service
DESCRIPTION:The CSS Alabama sank more enemy ships than any other before or since. It was built on the banks of the Mersey and fought for the South in the American Civil War. Three crew members are known to  be buried in Anfield Cemetery. \n
URL:https://friendsofanfield.com/event/american-civil-warcss-alabama-commemoration-service-2/
LOCATION:Anfield Crem Chapel\, Priory Road\, Liverpool\, L4 2SL
END:VEVENT
END:VCALENDAR